BEGIN:VCALENDAR
VERSION:2.0
PRODID:-//wp-events-plugin.com//7.2.3.1//EN
TZID:Europe/Berlin
X-WR-TIMEZONE:Europe/Berlin
BEGIN:VEVENT
UID:136@dstg-bremen.de
DTSTART;TZID=Europe/Berlin:20260505T093000
DTEND;TZID=Europe/Berlin:20260505T163000
DTSTAMP:20260324T194250Z
URL:https://www.dstg-bremen.de/events/steuergewerkschaftstag/
SUMMARY:Steuergewerkschaftstag
DESCRIPTION:Der nächste Steuergewerkschaftstag der DSTG Bremen findet vora
 ussichtlich am 5. Mai 2026 statt. Bitte merkt euch diesen Termin schon jet
 zt vor – die offizielle Einladung folgt form- und fristgerecht.\n\nMitgl
 ieder können bereits heute Anträge sowie Motto-Vorschläge an steuergewe
 rkschaftstag@dstg-bremen.de richten. Einsendeschluss für Motto-Vorschläg
 e ist der 31. Dezember 2025.\n\nUnter allen Einsendungen wird ein aktuelle
 s „City-for-two“-Heft für Bremen verlost. &#x1f381\; Der Rechtsweg is
 t ausgeschlossen. Mitglieder des Landesvorstands sind zwar teilnahme-\, je
 doch nicht gewinnberechtigt.
LOCATION:Konsul-Hackfeld-Haus\, Birkenstraße 34\, Bremen\, 28195\, Deutsch
 land
X-APPLE-STRUCTURED-LOCATION;VALUE=URI;X-ADDRESS=Birkenstraße 34\, Bremen\,
  28195\, Deutschland;X-APPLE-RADIUS=100;X-TITLE=Konsul-Hackfeld-Haus:geo:0
 ,0
END:VEVENT
BEGIN:VTIMEZONE
TZID:Europe/Berlin
X-LIC-LOCATION:Europe/Berlin
BEGIN:DAYLIGHT
DTSTART:20260329T030000
TZOFFSETFROM:+0100
TZOFFSETTO:+0200
TZNAME:CEST
END:DAYLIGHT
END:VTIMEZONE
END:VCALENDAR