BEGIN:VCALENDAR
VERSION:2.0
PRODID:-//wp-events-plugin.com//7.2.3.1//EN
TZID:Europe/Berlin
X-WR-TIMEZONE:Europe/Berlin
BEGIN:VEVENT
UID:9@dstg-bremen.de
DTSTART;TZID=Europe/Berlin:20230309T151500
DTEND;TZID=Europe/Berlin:20230309T174500
DTSTAMP:20230306T165530Z
URL:https://www.dstg-bremen.de/events/landesvorstand-3/
SUMMARY:Landesvorstand
DESCRIPTION:
LOCATION:Geschäftsstelle der DStG Bremen\, Rudolf-Hilferding-Platz 1\, Bre
 men \, 28195\, Deutschland
X-APPLE-STRUCTURED-LOCATION;VALUE=URI;X-ADDRESS=Rudolf-Hilferding-Platz 1\,
  Bremen \, 28195\, Deutschland;X-APPLE-RADIUS=100;X-TITLE=Geschäftsstelle
  der DStG Bremen:geo:0,0
END:VEVENT
BEGIN:VTIMEZONE
TZID:Europe/Berlin
X-LIC-LOCATION:Europe/Berlin
BEGIN:STANDARD
DTSTART:20221030T020000
TZOFFSETFROM:+0200
TZOFFSETTO:+0100
TZNAME:CET
END:STANDARD
END:VTIMEZONE
END:VCALENDAR